BEGIN:VCALENDAR
VERSION:2.0
PRODID:-//Ziber2013/
CALSCALE:GREGORIAN
BEGIN:VEVENT
UID:246139@https://www.st-michaelschool.nl
DTSTART:20260608T000000
DTEND:20260626T235959
SUMMARY:Leerling in Beeld groep 3 t/m 7
DESCRIPTION:<p>In deze periode maken de leerlingen van groep 3 tot en met 7 de toetsen van Leerling in Beeld.</p><p>Het is fijn als alle kinderen in deze periode op school zijn\, dus liever geen bezoekjes aan de tandarts ed. plannen in deze periode.</p>
LOCATION:IKC Sterrenwijzer\, Vincent van Goghstraat 18\, 2391 VB Hazerswoude-Dorp
X-MICROSOFT-CDO-ALLDAYEVENT:TRUE
ATTACH;FMTTYPE=image/jpeg:/content/monsterGallery/test.png?width=1600&height=1200
SEQUENCE:0
DTSTAMP:20260425T172052
END:VEVENT
END:VCALENDAR
